BEGIN:VCALENDAR
VERSION:2.0
PRODID:-//Röppisch - ECPv6.15.20//NONSGML v1.0//EN
CALSCALE:GREGORIAN
METHOD:PUBLISH
X-WR-CALNAME:Röppisch
X-ORIGINAL-URL:https://www.roeppisch.com/cms
X-WR-CALDESC:Veranstaltungen für Röppisch
REFRESH-INTERVAL;VALUE=DURATION:PT1H
X-Robots-Tag:noindex
X-PUBLISHED-TTL:PT1H
BEGIN:VTIMEZONE
TZID:Europe/Berlin
BEGIN:DAYLIGHT
TZOFFSETFROM:+0100
TZOFFSETTO:+0200
TZNAME:CEST
DTSTART:20240331T010000
END:DAYLIGHT
BEGIN:STANDARD
TZOFFSETFROM:+0200
TZOFFSETTO:+0100
TZNAME:CET
DTSTART:20241027T010000
END:STANDARD
BEGIN:DAYLIGHT
TZOFFSETFROM:+0100
TZOFFSETTO:+0200
TZNAME:CEST
DTSTART:20250330T010000
END:DAYLIGHT
BEGIN:STANDARD
TZOFFSETFROM:+0200
TZOFFSETTO:+0100
TZNAME:CET
DTSTART:20251026T010000
END:STANDARD
BEGIN:DAYLIGHT
TZOFFSETFROM:+0100
TZOFFSETTO:+0200
TZNAME:CEST
DTSTART:20260329T010000
END:DAYLIGHT
BEGIN:STANDARD
TZOFFSETFROM:+0200
TZOFFSETTO:+0100
TZNAME:CET
DTSTART:20261025T010000
END:STANDARD
END:VTIMEZONE
BEGIN:VEVENT
DTSTART;TZID=Europe/Berlin:20251025T090000
DTEND;TZID=Europe/Berlin:20251025T090000
DTSTAMP:20260425T235838
CREATED:20251012T090453Z
LAST-MODIFIED:20251012T090453Z
UID:727-1761382800-1761382800@www.roeppisch.com
SUMMARY:Subbotnik 2025
DESCRIPTION:🔈Hallo Freunde!Wir haben am 25.10.2025 unseren➡️ Subbotnik ⬅️in Röppisch.🪚🪓🪣🧽Es sind folgende Maßnahmen geplant: \n\n\n\n\nGrünschnitt im Kirchhof\n\n\n\nGrünschnitt auf dem Friedhof\n\n\n\nBank vor der Schule anstreichen\n\n\n\nWillkommensschild am Ortseingang überarbeiten\n\n\n\nReinigung Bürgerhaus und Buha\n\n\n\nwas sonst noch anfällt\n\n\n\n\nWer ist dabei und kann welche Aufgaben übernehmen? \n\n\n\nStart 9.00 Uhr bis ca.13.00 Uhr \n\n\n\nFür Verpflegung wird gesorgt!🌭🍻🥂🫗🧋 \n\n\n\nWer hat Zeit und Lust?Zur besseren Planung bitte Rückmeldung bis 17.10 (direkt oder an info@roeppisch.com)! \n\n\n\nWir freuen uns über rege Beteiligung 😊
URL:https://www.roeppisch.com/cms/veranstaltung/subbotnik-2025/
LOCATION:Dorfplatz\, Röppisch\, 07929 Saalburg-Ebersdorf\, Thüringen\, 07929\, Deutschland
ATTACH;FMTTYPE=image/jpeg:https://www.roeppisch.com/cms/wp-content/uploads/2025/10/subbotnik.jpeg
END:VEVENT
END:VCALENDAR