BEGIN:VCALENDAR
VERSION:2.0
PRODID:-//Röppisch - ECPv6.15.20//NONSGML v1.0//EN
CALSCALE:GREGORIAN
METHOD:PUBLISH
X-ORIGINAL-URL:https://www.roeppisch.com/cms
X-WR-CALDESC:Veranstaltungen für Röppisch
REFRESH-INTERVAL;VALUE=DURATION:PT1H
X-Robots-Tag:noindex
X-PUBLISHED-TTL:PT1H
BEGIN:VTIMEZONE
TZID:Europe/Berlin
BEGIN:DAYLIGHT
TZOFFSETFROM:+0100
TZOFFSETTO:+0200
TZNAME:CEST
DTSTART:20250330T010000
END:DAYLIGHT
BEGIN:STANDARD
TZOFFSETFROM:+0200
TZOFFSETTO:+0100
TZNAME:CET
DTSTART:20251026T010000
END:STANDARD
BEGIN:DAYLIGHT
TZOFFSETFROM:+0100
TZOFFSETTO:+0200
TZNAME:CEST
DTSTART:20260329T010000
END:DAYLIGHT
BEGIN:STANDARD
TZOFFSETFROM:+0200
TZOFFSETTO:+0100
TZNAME:CET
DTSTART:20261025T010000
END:STANDARD
BEGIN:DAYLIGHT
TZOFFSETFROM:+0100
TZOFFSETTO:+0200
TZNAME:CEST
DTSTART:20270328T010000
END:DAYLIGHT
BEGIN:STANDARD
TZOFFSETFROM:+0200
TZOFFSETTO:+0100
TZNAME:CET
DTSTART:20271031T010000
END:STANDARD
END:VTIMEZONE
BEGIN:VEVENT
DTSTART;TZID=Europe/Berlin:20260404T190000
DTEND;TZID=Europe/Berlin:20260404T190000
DTSTAMP:20260425T160249
CREATED:20250317T214922Z
LAST-MODIFIED:20260330T194632Z
UID:633-1775329200-1775329200@www.roeppisch.com
SUMMARY:Osternacht mit Abendmahl
DESCRIPTION:Karsamstag
URL:https://www.roeppisch.com/cms/veranstaltung/osternacht-mit-abendmahl/
LOCATION:St. Wolfgangskirche\, Röppisch 63\, Saalburg-Ebersdorf\, Thüringen\, 07929\, Germany
ATTACH;FMTTYPE=image/jpeg:https://www.roeppisch.com/cms/wp-content/uploads/2025/03/osternacht.jpg
END:VEVENT
END:VCALENDAR