BEGIN:VCALENDAR
VERSION:2.0
PRODID:-//Röppisch - ECPv6.15.20//NONSGML v1.0//EN
CALSCALE:GREGORIAN
METHOD:PUBLISH
X-ORIGINAL-URL:https://www.roeppisch.com/cms
X-WR-CALDESC:Veranstaltungen für Röppisch
REFRESH-INTERVAL;VALUE=DURATION:PT1H
X-Robots-Tag:noindex
X-PUBLISHED-TTL:PT1H
BEGIN:VTIMEZONE
TZID:Europe/Berlin
BEGIN:DAYLIGHT
TZOFFSETFROM:+0100
TZOFFSETTO:+0200
TZNAME:CEST
DTSTART:20250330T010000
END:DAYLIGHT
BEGIN:STANDARD
TZOFFSETFROM:+0200
TZOFFSETTO:+0100
TZNAME:CET
DTSTART:20251026T010000
END:STANDARD
BEGIN:DAYLIGHT
TZOFFSETFROM:+0100
TZOFFSETTO:+0200
TZNAME:CEST
DTSTART:20260329T010000
END:DAYLIGHT
BEGIN:STANDARD
TZOFFSETFROM:+0200
TZOFFSETTO:+0100
TZNAME:CET
DTSTART:20261025T010000
END:STANDARD
BEGIN:DAYLIGHT
TZOFFSETFROM:+0100
TZOFFSETTO:+0200
TZNAME:CEST
DTSTART:20270328T010000
END:DAYLIGHT
BEGIN:STANDARD
TZOFFSETFROM:+0200
TZOFFSETTO:+0100
TZNAME:CET
DTSTART:20271031T010000
END:STANDARD
END:VTIMEZONE
BEGIN:VEVENT
DTSTART;TZID=Europe/Berlin:20260514T000000
DTEND;TZID=Europe/Berlin:20260517T235959
DTSTAMP:20260425T172442
CREATED:20240403T201857Z
LAST-MODIFIED:20260331T201353Z
UID:66-1778716800-1779062399@www.roeppisch.com
SUMMARY:Dorffest
DESCRIPTION:mit Seifenkistenrennen\, Festzeltbetrieb\, Tanz\, Kinderfest\, Zeltgottesdienst u.v.a.m.
URL:https://www.roeppisch.com/cms/veranstaltung/dorffest/
LOCATION:Dorfplatz\, Röppisch\, 07929 Saalburg-Ebersdorf\, Thüringen\, 07929\, Deutschland
ATTACH;FMTTYPE=image/png:https://www.roeppisch.com/cms/wp-content/uploads/2024/04/Dorffest.png
END:VEVENT
END:VCALENDAR