BEGIN:VCALENDAR
VERSION:2.0
PRODID:-//Röppisch - ECPv6.15.20//NONSGML v1.0//EN
CALSCALE:GREGORIAN
METHOD:PUBLISH
X-ORIGINAL-URL:https://www.roeppisch.com/cms
X-WR-CALDESC:Veranstaltungen für Röppisch
REFRESH-INTERVAL;VALUE=DURATION:PT1H
X-Robots-Tag:noindex
X-PUBLISHED-TTL:PT1H
BEGIN:VTIMEZONE
TZID:Europe/Berlin
BEGIN:DAYLIGHT
TZOFFSETFROM:+0100
TZOFFSETTO:+0200
TZNAME:CEST
DTSTART:20240331T010000
END:DAYLIGHT
BEGIN:STANDARD
TZOFFSETFROM:+0200
TZOFFSETTO:+0100
TZNAME:CET
DTSTART:20241027T010000
END:STANDARD
BEGIN:DAYLIGHT
TZOFFSETFROM:+0100
TZOFFSETTO:+0200
TZNAME:CEST
DTSTART:20250330T010000
END:DAYLIGHT
BEGIN:STANDARD
TZOFFSETFROM:+0200
TZOFFSETTO:+0100
TZNAME:CET
DTSTART:20251026T010000
END:STANDARD
BEGIN:DAYLIGHT
TZOFFSETFROM:+0100
TZOFFSETTO:+0200
TZNAME:CEST
DTSTART:20260329T010000
END:DAYLIGHT
BEGIN:STANDARD
TZOFFSETFROM:+0200
TZOFFSETTO:+0100
TZNAME:CET
DTSTART:20261025T010000
END:STANDARD
END:VTIMEZONE
BEGIN:VEVENT
DTSTART;TZID=Europe/Berlin:20251101T090000
DTEND;TZID=Europe/Berlin:20251101T090000
DTSTAMP:20260425T212349
CREATED:20251012T090828Z
LAST-MODIFIED:20251012T090829Z
UID:730-1761987600-1761987600@www.roeppisch.com
SUMMARY:Kirmesständerle
DESCRIPTION:
URL:https://www.roeppisch.com/cms/veranstaltung/kirmesstaenderle/
LOCATION:Dorfplatz\, Röppisch\, 07929 Saalburg-Ebersdorf\, Thüringen\, 07929\, Deutschland
END:VEVENT
BEGIN:VEVENT
DTSTART;TZID=Europe/Berlin:20251129T160000
DTEND;TZID=Europe/Berlin:20251129T160000
DTSTAMP:20260425T212349
CREATED:20241126T210106Z
LAST-MODIFIED:20251121T073836Z
UID:533-1764432000-1764432000@www.roeppisch.com
SUMMARY:18. Lichterfest
DESCRIPTION:
URL:https://www.roeppisch.com/cms/veranstaltung/17-lichterfest/
LOCATION:Bürgerhaus\, Röppisch 62\, Saalburg-Ebersdorf\, Thüringen\, 07929\, Deutschland
ATTACH;FMTTYPE=image/png:https://www.roeppisch.com/cms/wp-content/uploads/2024/11/wolfgangskirche.png
END:VEVENT
BEGIN:VEVENT
DTSTART;TZID=Europe/Berlin:20251129T170000
DTEND;TZID=Europe/Berlin:20251129T170000
DTSTAMP:20260425T212349
CREATED:20251121T074458Z
LAST-MODIFIED:20251121T074458Z
UID:750-1764435600-1764435600@www.roeppisch.com
SUMMARY:Klavier Kabarett
DESCRIPTION:Ricarda Kappauf & Tillmann Boeltermit Liedern von Bodo Wartke
URL:https://www.roeppisch.com/cms/veranstaltung/klavier-kabarett/
LOCATION:St. Wolfgangskirche\, Röppisch 63\, Saalburg-Ebersdorf\, Thüringen\, 07929\, Germany
END:VEVENT
END:VCALENDAR