BEGIN:VCALENDAR
VERSION:2.0
PRODID:-//Röppisch - ECPv6.15.20//NONSGML v1.0//EN
CALSCALE:GREGORIAN
METHOD:PUBLISH
X-ORIGINAL-URL:https://www.roeppisch.com/cms
X-WR-CALDESC:Veranstaltungen für Röppisch
REFRESH-INTERVAL;VALUE=DURATION:PT1H
X-Robots-Tag:noindex
X-PUBLISHED-TTL:PT1H
BEGIN:VTIMEZONE
TZID:Europe/Berlin
BEGIN:DAYLIGHT
TZOFFSETFROM:+0100
TZOFFSETTO:+0200
TZNAME:CEST
DTSTART:20250330T010000
END:DAYLIGHT
BEGIN:STANDARD
TZOFFSETFROM:+0200
TZOFFSETTO:+0100
TZNAME:CET
DTSTART:20251026T010000
END:STANDARD
BEGIN:DAYLIGHT
TZOFFSETFROM:+0100
TZOFFSETTO:+0200
TZNAME:CEST
DTSTART:20260329T010000
END:DAYLIGHT
BEGIN:STANDARD
TZOFFSETFROM:+0200
TZOFFSETTO:+0100
TZNAME:CET
DTSTART:20261025T010000
END:STANDARD
BEGIN:DAYLIGHT
TZOFFSETFROM:+0100
TZOFFSETTO:+0200
TZNAME:CEST
DTSTART:20270328T010000
END:DAYLIGHT
BEGIN:STANDARD
TZOFFSETFROM:+0200
TZOFFSETTO:+0100
TZNAME:CET
DTSTART:20271031T010000
END:STANDARD
END:VTIMEZONE
BEGIN:VEVENT
DTSTART;TZID=Europe/Berlin:20260327T190000
DTEND;TZID=Europe/Berlin:20260327T190000
DTSTAMP:20260425T155415
CREATED:20250309T085158Z
LAST-MODIFIED:20260326T140009Z
UID:613-1774638000-1774638000@www.roeppisch.com
SUMMARY:Mitgliederversammlung der Jagdgenossenschaft
DESCRIPTION:ab 18:30 Uhr stell sich die Fa. HSH Waldfabrik vorEinladungzur nichtöffentlichen Versammlung der Mitglieder der Jagdgenossenschaft Röppisch \n\n\n\nTagesordnung:1. Begrüßung2. Bericht des Vorstandes3. Finanzbericht4. Kassenprüfbericht5. Entlastung des Vorstandes6. Arbeitsplan Wegebau (Beschlussfassung)7. Verschiedenes- Diskussionen \n\n\n\nBei Verhinderung kann sich jeder Jagdgenosse durch seinen Ehegatten\, durch einen volljährigen Verwandten in gerader Linie\, durch eine in seinem Dienst ständig beschäftigte volljährige Person oder durch einen volljährigen\, derselben Jagdgenossenschaft angehörigen Jagdgenossen vertreten lassen. Ein Bevollmächtigter darf höchstens 3 Jagdgenossen vertreten. Für die Erteilung der Vollmacht an einen Jagdgenossen ist die schriftliche Form erforderlich. Für juristische Personen handeln ihre verfassungsmäßigen Vertreter. \n\n\n\nDer VorstandS. Müller 1.Jagdvorsteher                                                  Röppisch\, den 26.02.2026
URL:https://www.roeppisch.com/cms/veranstaltung/mitgliederversammlung-der-jagdgenossenschaft/
LOCATION:Gasthaus Fröhlich\, Röppisch 50\, Saalburg-Ebersdorf\, Thüringen\, 07929
ATTACH;FMTTYPE=image/png:https://www.roeppisch.com/cms/wp-content/uploads/2025/03/jagdgenossenschaft.png
END:VEVENT
END:VCALENDAR