BEGIN:VCALENDAR
VERSION:2.0
PRODID:-//Röppisch - ECPv6.15.20//NONSGML v1.0//EN
CALSCALE:GREGORIAN
METHOD:PUBLISH
X-ORIGINAL-URL:https://www.roeppisch.com/cms
X-WR-CALDESC:Veranstaltungen für Röppisch
REFRESH-INTERVAL;VALUE=DURATION:PT1H
X-Robots-Tag:noindex
X-PUBLISHED-TTL:PT1H
BEGIN:VTIMEZONE
TZID:Europe/Berlin
BEGIN:DAYLIGHT
TZOFFSETFROM:+0100
TZOFFSETTO:+0200
TZNAME:CEST
DTSTART:20250330T010000
END:DAYLIGHT
BEGIN:STANDARD
TZOFFSETFROM:+0200
TZOFFSETTO:+0100
TZNAME:CET
DTSTART:20251026T010000
END:STANDARD
BEGIN:DAYLIGHT
TZOFFSETFROM:+0100
TZOFFSETTO:+0200
TZNAME:CEST
DTSTART:20260329T010000
END:DAYLIGHT
BEGIN:STANDARD
TZOFFSETFROM:+0200
TZOFFSETTO:+0100
TZNAME:CET
DTSTART:20261025T010000
END:STANDARD
BEGIN:DAYLIGHT
TZOFFSETFROM:+0100
TZOFFSETTO:+0200
TZNAME:CEST
DTSTART:20270328T010000
END:DAYLIGHT
BEGIN:STANDARD
TZOFFSETFROM:+0200
TZOFFSETTO:+0100
TZNAME:CET
DTSTART:20271031T010000
END:STANDARD
END:VTIMEZONE
BEGIN:VEVENT
DTSTART;TZID=Europe/Berlin:20260626T000000
DTEND;TZID=Europe/Berlin:20260627T235959
DTSTAMP:20260425T173150
CREATED:20240407T211306Z
LAST-MODIFIED:20260331T194214Z
UID:83-1782432000-1782604799@www.roeppisch.com
SUMMARY:Sportfest 2026
DESCRIPTION:Sportfest mit Triathlon\, Fußball\, Skat u.v.a.m. \nFür das leibliche Wohl ist bestens gesorgt. \nEs lädt recht herzlich ein der 1. FC Wissenschaft Röppisch! \nZeitplan und weitere Infos folgen…
URL:https://www.roeppisch.com/cms/veranstaltung/sporfest-2026/
LOCATION:Stadion der Hügel und Winde\, 1.FC Wissenschaft\, Saalburg-Ebersdorf\, Thüringen\, 07929\, Germany
ATTACH;FMTTYPE=image/png:https://www.roeppisch.com/cms/wp-content/uploads/2024/04/sportfest.png
ORGANIZER;CN="1. FC Wissenschaft R%C3%B6ppisch 1979":MAILTO:wissenschaft@roeppisch.com
END:VEVENT
BEGIN:VEVENT
DTSTART;TZID=Europe/Berlin:20260627T000000
DTEND;TZID=Europe/Berlin:20260627T235959
DTSTAMP:20260425T173150
CREATED:20240527T205645Z
LAST-MODIFIED:20260331T194016Z
UID:289-1782518400-1782604799@www.roeppisch.com
SUMMARY:Röppischer-Stausee-Triathlon
DESCRIPTION:mehr infos gibt’s hier…
URL:https://www.roeppisch.com/cms/veranstaltung/roeppischer-stausee-triathlon/
LOCATION:Stadion der Hügel und Winde\, 1.FC Wissenschaft\, Saalburg-Ebersdorf\, Thüringen\, 07929\, Germany
ATTACH;FMTTYPE=image/jpeg:https://www.roeppisch.com/cms/wp-content/uploads/2024/05/triathlon-slider.jpg
END:VEVENT
END:VCALENDAR